BEGIN:VCALENDAR
VERSION:2.0
PRODID:-//Plone.org//NONSGML plone.app.event//EN
X-WR-TIMEZONE:Europe/Rome
BEGIN:VEVENT
SUMMARY:A 50 anni dalle Dieci tesi per l’educazione linguistica democrat
 ica
DTSTART;TZID=Europe/Rome;VALUE=DATE-TIME:20250509T090000
DTEND;TZID=Europe/Rome;VALUE=DATE-TIME:20250510T130000
DTSTAMP;VALUE=DATE-TIME:20260422T101352Z
UID:e775db95548c462d9d951668829b33c7@ficlit.unibo.it
CREATED;VALUE=DATE-TIME:20250502T103042Z
DESCRIPTION:Convegno organizzato dal FICLIT e il GISCEL (Gruppo di Interve
 nto e Studio nel Campo dell'Educazione Linguistica)
LAST-MODIFIED;VALUE=DATE-TIME:20250502T105819Z
URL:https://ficlit.unibo.it/it/eventi/a-50-anni-dalle-dieci-tesi-per-l2019
 educazione-linguistica-democratica
END:VEVENT
BEGIN:VTIMEZONE
TZID:Europe/Rome
X-LIC-LOCATION:Europe/Rome
BEGIN:DAYLIGHT
DTSTART;VALUE=DATE-TIME:20250330T030000
TZNAME:CEST
TZOFFSETFROM:+0100
TZOFFSETTO:+0200
END:DAYLIGHT
END:VTIMEZONE
END:VCALENDAR
