BEGIN:VCALENDAR
VERSION:2.0
PRODID:-//Plone.org//NONSGML plone.app.event//EN
X-WR-TIMEZONE:Europe/Rome
BEGIN:VEVENT
SUMMARY:Accademie. Dalla Via Emilia al West
DTSTART;VALUE=DATE:20220308
DTEND;VALUE=DATE:20220310
DTSTAMP;VALUE=DATE-TIME:20260422T153736Z
UID:1fcf7f4149554731a65ab533619b0b52@ficlit.unibo.it
CREATED;VALUE=DATE-TIME:20220302T120538Z
DESCRIPTION:Convegno internazionale (8-9 marzo 2022\, Aula Prodi\, San Gio
 vanni in Monte\, Bologna)
LAST-MODIFIED;VALUE=DATE-TIME:20220302T120702Z
URL:https://ficlit.unibo.it/it/eventi/accademie-dalla-via-emilia-al-west
END:VEVENT
END:VCALENDAR
