BEGIN:VCALENDAR
VERSION:2.0
PRODID:-//Plone.org//NONSGML plone.app.event//EN
X-WR-TIMEZONE:Europe/Rome
BEGIN:VEVENT
SUMMARY:Alma Dante 2025
DTSTART;VALUE=DATE:20250619
DTEND;VALUE=DATE:20250621
DTSTAMP;VALUE=DATE-TIME:20260420T100332Z
UID:b47a7de8cc8442e38e39257de850c8ca@ficlit.unibo.it
CREATED;VALUE=DATE-TIME:20250616T081852Z
DESCRIPTION:Seminario dottorale dantesco
LAST-MODIFIED;VALUE=DATE-TIME:20250616T082407Z
URL:https://ficlit.unibo.it/it/eventi/alma-dante-2025
END:VEVENT
END:VCALENDAR
