BEGIN:VCALENDAR
VERSION:2.0
PRODID:-//Plone.org//NONSGML plone.app.event//EN
X-WR-TIMEZONE:Europe/Rome
BEGIN:VEVENT
SUMMARY:Alma Dantedì 2022
DTSTART;TZID=Europe/Rome;VALUE=DATE-TIME:20220325T090000
DTEND;TZID=Europe/Rome;VALUE=DATE-TIME:20220325T183000
DTSTAMP;VALUE=DATE-TIME:20260422T024409Z
UID:228e473fc67c4c5bad4e611ca890b7a8@ficlit.unibo.it
CREATED;VALUE=DATE-TIME:20220322T090334Z
DESCRIPTION:Dall’Alma Mater al mondo. Dante all’Università di Bologna
LAST-MODIFIED;VALUE=DATE-TIME:20220322T090922Z
URL:https://ficlit.unibo.it/it/eventi/alma-dantedi-2022
END:VEVENT
BEGIN:VTIMEZONE
TZID:Europe/Rome
X-LIC-LOCATION:Europe/Rome
BEGIN:STANDARD
DTSTART;VALUE=DATE-TIME:20211031T020000
TZNAME:CET
TZOFFSETFROM:+0200
TZOFFSETTO:+0100
END:STANDARD
END:VTIMEZONE
END:VCALENDAR
