BEGIN:VCALENDAR
VERSION:2.0
PRODID:-//Plone.org//NONSGML plone.app.event//EN
X-WR-TIMEZONE:Europe/Rome
BEGIN:VEVENT
SUMMARY:Alma Dantedì
DTSTART;TZID=Europe/Rome;VALUE=DATE-TIME:20210325T203000
DTEND;TZID=Europe/Rome;VALUE=DATE-TIME:20210325T230000
DTSTAMP;VALUE=DATE-TIME:20260420T192923Z
UID:829cdf8a8f9d4e25b1d75d367faa1cfb@ficlit.unibo.it
CREATED;VALUE=DATE-TIME:20210323T142713Z
DESCRIPTION:La serata di letture dantesche organizzata dal nostro dipartim
 ento per celebrare il Dantedì
LAST-MODIFIED;VALUE=DATE-TIME:20210323T143230Z
URL:https://ficlit.unibo.it/it/eventi/alma-dantedi
END:VEVENT
BEGIN:VTIMEZONE
TZID:Europe/Rome
X-LIC-LOCATION:Europe/Rome
BEGIN:STANDARD
DTSTART;VALUE=DATE-TIME:20201025T020000
TZNAME:CET
TZOFFSETFROM:+0200
TZOFFSETTO:+0100
END:STANDARD
END:VTIMEZONE
END:VCALENDAR
