BEGIN:VCALENDAR
VERSION:2.0
PRODID:-//Plone.org//NONSGML plone.app.event//EN
X-WR-TIMEZONE:Europe/Rome
BEGIN:VEVENT
SUMMARY:Dall’Alma Mater al mondo. Dante all’Università di Bologna
DTSTART;VALUE=DATE:20211025
DTEND;VALUE=DATE:20211218
DTSTAMP;VALUE=DATE-TIME:20260422T140405Z
UID:f57cb606e90f4e1999f9b1fa50fbb1b4@ficlit.unibo.it
CREATED;VALUE=DATE-TIME:20211015T133210Z
DESCRIPTION:La mostra ha lo scopo di valorizzare il contributo dei profess
 ori bolognesi allo studio di Dante\, che si caratterizza per la natura mul
 tidisciplinare.
LAST-MODIFIED;VALUE=DATE-TIME:20211015T135116Z
URL:https://ficlit.unibo.it/it/eventi/alma-mater-mondo-dante-universita-bo
 logna
END:VEVENT
END:VCALENDAR
