BEGIN:VCALENDAR
VERSION:2.0
PRODID:-//Plone.org//NONSGML plone.app.event//EN
X-WR-TIMEZONE:Europe/Rome
BEGIN:VEVENT
SUMMARY:Alma Orienta
DTSTART;VALUE=DATE:20220228
DTEND;VALUE=DATE:20220303
DTSTAMP;VALUE=DATE-TIME:20260422T041350Z
UID:f9600cb35cb142dd91938c45e6e81160@ficlit.unibo.it
CREATED;VALUE=DATE-TIME:20220225T170719Z
DESCRIPTION:Giornate dell'orientamento dell'Università di Bologna
LAST-MODIFIED;VALUE=DATE-TIME:20220225T170927Z
URL:https://ficlit.unibo.it/it/eventi/alma-orienta
END:VEVENT
END:VCALENDAR
