BEGIN:VCALENDAR
VERSION:2.0
PRODID:-//Plone.org//NONSGML plone.app.event//EN
X-WR-TIMEZONE:Europe/Rome
BEGIN:VEVENT
SUMMARY:Alterità e differenza. Corpi da paura
DTSTART;TZID=Europe/Rome;VALUE=DATE-TIME:20180308T150000
DTEND;TZID=Europe/Rome;VALUE=DATE-TIME:20180309T190000
DTSTAMP;VALUE=DATE-TIME:20260424T160613Z
UID:efcdb273b4a64c5ebe4ef4b37f30944a@ficlit.unibo.it
CREATED;VALUE=DATE-TIME:20180302T090228Z
DESCRIPTION:Convegno internazionale
LAST-MODIFIED;VALUE=DATE-TIME:20180302T090322Z
URL:https://ficlit.unibo.it/it/eventi/alterita-e-differenza.-corpi-da-paur
 a
END:VEVENT
BEGIN:VTIMEZONE
TZID:Europe/Rome
X-LIC-LOCATION:Europe/Rome
BEGIN:STANDARD
DTSTART;VALUE=DATE-TIME:20171029T020000
TZNAME:CET
TZOFFSETFROM:+0200
TZOFFSETTO:+0100
END:STANDARD
END:VTIMEZONE
END:VCALENDAR
