BEGIN:VCALENDAR
VERSION:2.0
PRODID:-//Plone.org//NONSGML plone.app.event//EN
X-WR-TIMEZONE:Europe/Rome
BEGIN:VEVENT
SUMMARY:Archimede e la matematica greca
DTSTART;TZID=Europe/Rome;VALUE=DATE-TIME:20250508T100000
DTEND;TZID=Europe/Rome;VALUE=DATE-TIME:20250508T130000
DTSTAMP;VALUE=DATE-TIME:20260420T113737Z
UID:0e96302465024002bdb4ba2959fb719f@ficlit.unibo.it
CREATED;VALUE=DATE-TIME:20250502T093221Z
DESCRIPTION:Seminario conclusivo del Corso di Filologia e Letteratura Grec
 a 2024/2025\, Prof. Camillo Neri
LAST-MODIFIED;VALUE=DATE-TIME:20250502T093509Z
URL:https://ficlit.unibo.it/it/eventi/archimede-e-la-matematica-greca
END:VEVENT
BEGIN:VTIMEZONE
TZID:Europe/Rome
X-LIC-LOCATION:Europe/Rome
BEGIN:DAYLIGHT
DTSTART;VALUE=DATE-TIME:20250330T030000
TZNAME:CEST
TZOFFSETFROM:+0100
TZOFFSETTO:+0200
END:DAYLIGHT
END:VTIMEZONE
END:VCALENDAR
