BEGIN:VCALENDAR
VERSION:2.0
PRODID:-//Plone.org//NONSGML plone.app.event//EN
X-WR-TIMEZONE:Europe/Rome
BEGIN:VEVENT
SUMMARY:Aspetti di ginecologia nella prima età imperiale romana
DTSTART;TZID=Europe/Rome;VALUE=DATE-TIME:20250417T150000
DTEND;TZID=Europe/Rome;VALUE=DATE-TIME:20250417T170000
DTSTAMP;VALUE=DATE-TIME:20260420T101126Z
UID:75de5afb96dd499fa3bc2dc98bc811e5@ficlit.unibo.it
CREATED;VALUE=DATE-TIME:20250110T092152Z
DESCRIPTION:Ciclo di Seminari organizzato nell’ambito del Progetto PRIN2
 022 (PNRR) WInGS – Women Intellectuals in Greek Society
LAST-MODIFIED;VALUE=DATE-TIME:20250408T083359Z
URL:https://ficlit.unibo.it/it/eventi/aspetti-di-ginecologia-nella-prima-e
 ta-imperiale-romana
END:VEVENT
BEGIN:VTIMEZONE
TZID:Europe/Rome
X-LIC-LOCATION:Europe/Rome
BEGIN:DAYLIGHT
DTSTART;VALUE=DATE-TIME:20250330T030000
TZNAME:CEST
TZOFFSETFROM:+0100
TZOFFSETTO:+0200
END:DAYLIGHT
END:VTIMEZONE
END:VCALENDAR
