BEGIN:VCALENDAR
VERSION:2.0
PRODID:-//Plone.org//NONSGML plone.app.event//EN
X-WR-TIMEZONE:Europe/Rome
BEGIN:VEVENT
SUMMARY:Aziende\, collane librarie e capitale. Proposte metodologiche
DTSTART;VALUE=DATE:20241213
DTEND;VALUE=DATE:20241214
DTSTAMP;VALUE=DATE-TIME:20260420T082305Z
UID:33ca86b01d0a46afa2c95809d7e031f7@ficlit.unibo.it
CREATED;VALUE=DATE-TIME:20241206T093155Z
DESCRIPTION:Seminario del professor Bruno Pischedda (Università degli Stu
 di di Milano Statale)
LAST-MODIFIED;VALUE=DATE-TIME:20241206T093852Z
URL:https://ficlit.unibo.it/it/eventi/aziende-collane-librarie-e-capitale-
 proposte-metodologiche
END:VEVENT
END:VCALENDAR
