BEGIN:VCALENDAR
VERSION:2.0
PRODID:-//Plone.org//NONSGML plone.app.event//EN
X-WR-TIMEZONE:Europe/Rome
BEGIN:VEVENT
SUMMARY:Bibliography of ancient Greek exegesis. Procedure per l’implemen
 tazione della banca dati
DTSTART;VALUE=DATE:20250619
DTEND;VALUE=DATE:20250620
DTSTAMP;VALUE=DATE-TIME:20260420T101224Z
UID:79feb3c671274e30bf60f5e14e08d64c@ficlit.unibo.it
CREATED;VALUE=DATE-TIME:20250610T144057Z
DESCRIPTION:Webinar a cura di Francesca Filograsso nell'ambito del progett
 o ParaText (PRIN 2022)
LAST-MODIFIED;VALUE=DATE-TIME:20250610T144947Z
URL:https://ficlit.unibo.it/it/eventi/bibliography-of-ancient-greek-exeges
 is-procedure-per-l-implementazione-della-banca-dati
END:VEVENT
END:VCALENDAR
