BEGIN:VCALENDAR
VERSION:2.0
PRODID:-//Plone.org//NONSGML plone.app.event//EN
X-WR-TIMEZONE:Europe/Rome
BEGIN:VEVENT
SUMMARY:Cantieri aperti: i Triumphi di Francesco Petrarca
DTSTART;VALUE=DATE:20250623
DTEND;VALUE=DATE:20250624
DTSTAMP;VALUE=DATE-TIME:20260422T011311Z
UID:57193cb556274b8093280f5d83c94fde@ficlit.unibo.it
CREATED;VALUE=DATE-TIME:20250617T152942Z
DESCRIPTION:AlmaPetrarca\, VIII edizione
LAST-MODIFIED;VALUE=DATE-TIME:20250617T154453Z
URL:https://ficlit.unibo.it/it/eventi/cantieri-aperti-i-triumphi-di-france
 sco-petrarca
END:VEVENT
END:VCALENDAR
