BEGIN:VCALENDAR
VERSION:2.0
PRODID:-//Plone.org//NONSGML plone.app.event//EN
X-WR-TIMEZONE:Europe/Rome
BEGIN:VEVENT
SUMMARY:Capire il presente
DTSTART;TZID=Europe/Rome;VALUE=DATE-TIME:20220630T150000
DTEND;TZID=Europe/Rome;VALUE=DATE-TIME:20220630T170000
DTSTAMP;VALUE=DATE-TIME:20260421T232134Z
UID:de73a36411804777b398a7526f374f6b@ficlit.unibo.it
CREATED;VALUE=DATE-TIME:20220624T104350Z
DESCRIPTION:Ucraina/Russia - lingua e letteratura
LAST-MODIFIED;VALUE=DATE-TIME:20220624T110008Z
URL:https://ficlit.unibo.it/it/eventi/capire-il-presente-1
END:VEVENT
BEGIN:VTIMEZONE
TZID:Europe/Rome
X-LIC-LOCATION:Europe/Rome
BEGIN:DAYLIGHT
DTSTART;VALUE=DATE-TIME:20220327T030000
TZNAME:CEST
TZOFFSETFROM:+0100
TZOFFSETTO:+0200
END:DAYLIGHT
END:VTIMEZONE
END:VCALENDAR
