BEGIN:VCALENDAR
VERSION:2.0
PRODID:-//Plone.org//NONSGML plone.app.event//EN
X-WR-TIMEZONE:Europe/Rome
BEGIN:VEVENT
SUMMARY:Capire il presente
DTSTART;TZID=Europe/Rome;VALUE=DATE-TIME:20220512T150000
DTEND;TZID=Europe/Rome;VALUE=DATE-TIME:20220512T170000
DTSTAMP;VALUE=DATE-TIME:20260422T022504Z
UID:c555b088617842a680182de039b06e8b@ficlit.unibo.it
CREATED;VALUE=DATE-TIME:20220503T154904Z
DESCRIPTION:Ucraina / Russia - La lingua\, le lingue
LAST-MODIFIED;VALUE=DATE-TIME:20220503T161825Z
URL:https://ficlit.unibo.it/it/eventi/capire-il-presente
END:VEVENT
BEGIN:VTIMEZONE
TZID:Europe/Rome
X-LIC-LOCATION:Europe/Rome
BEGIN:DAYLIGHT
DTSTART;VALUE=DATE-TIME:20220327T030000
TZNAME:CEST
TZOFFSETFROM:+0100
TZOFFSETTO:+0200
END:DAYLIGHT
END:VTIMEZONE
END:VCALENDAR
