BEGIN:VCALENDAR
VERSION:2.0
PRODID:-//Plone.org//NONSGML plone.app.event//EN
X-WR-TIMEZONE:Europe/Rome
BEGIN:VEVENT
SUMMARY:Cara Du. Ida PAscoli nelle lettere al fratello
DTSTART;TZID=Europe/Rome;VALUE=DATE-TIME:20241221T093000
DTEND;TZID=Europe/Rome;VALUE=DATE-TIME:20250531T163000
DTSTAMP;VALUE=DATE-TIME:20260423T092334Z
UID:bda65850390f4405a879656452380c63@ficlit.unibo.it
CREATED;VALUE=DATE-TIME:20241210T085112Z
DESCRIPTION:Mostra delle carte del Fondo Murari dell'Accademia Pascoliania
LAST-MODIFIED;VALUE=DATE-TIME:20241210T085515Z
URL:https://ficlit.unibo.it/it/eventi/cara-du
END:VEVENT
BEGIN:VTIMEZONE
TZID:Europe/Rome
X-LIC-LOCATION:Europe/Rome
BEGIN:STANDARD
DTSTART;VALUE=DATE-TIME:20241027T020000
TZNAME:CET
TZOFFSETFROM:+0200
TZOFFSETTO:+0100
END:STANDARD
BEGIN:DAYLIGHT
DTSTART;VALUE=DATE-TIME:20250330T030000
TZNAME:CEST
TZOFFSETFROM:+0100
TZOFFSETTO:+0200
END:DAYLIGHT
END:VTIMEZONE
END:VCALENDAR
