BEGIN:VCALENDAR
VERSION:2.0
PRODID:-//Plone.org//NONSGML plone.app.event//EN
X-WR-TIMEZONE:Europe/Rome
BEGIN:VEVENT
SUMMARY:Catullus outside Europe: versions and translations since 1945
DTSTART;TZID=Europe/Rome;VALUE=DATE-TIME:20220506T150000
DTEND;TZID=Europe/Rome;VALUE=DATE-TIME:20220506T170000
DTSTAMP;VALUE=DATE-TIME:20260422T011422Z
UID:034cd0afb24e48aea44d4212d8f2a7c4@ficlit.unibo.it
CREATED;VALUE=DATE-TIME:20220420T140753Z
DESCRIPTION:Stephen Harrison (Oxford)
LAST-MODIFIED;VALUE=DATE-TIME:20220426T084127Z
URL:https://ficlit.unibo.it/it/eventi/catullus-outside-europe-versions-and
 -translations-since-1945
END:VEVENT
BEGIN:VTIMEZONE
TZID:Europe/Rome
X-LIC-LOCATION:Europe/Rome
BEGIN:DAYLIGHT
DTSTART;VALUE=DATE-TIME:20220327T030000
TZNAME:CEST
TZOFFSETFROM:+0100
TZOFFSETTO:+0200
END:DAYLIGHT
END:VTIMEZONE
END:VCALENDAR
