BEGIN:VCALENDAR
VERSION:2.0
PRODID:-//Plone.org//NONSGML plone.app.event//EN
X-WR-TIMEZONE:Europe/Rome
BEGIN:VEVENT
SUMMARY:Cicerone e l'ambiente
DTSTART;TZID=Europe/Rome;VALUE=DATE-TIME:20230123T100000
DTEND;TZID=Europe/Rome;VALUE=DATE-TIME:20230124T130000
DTSTAMP;VALUE=DATE-TIME:20260421T132322Z
UID:4035a333943d49c99af5133627c5b11e@ficlit.unibo.it
CREATED;VALUE=DATE-TIME:20230109T105359Z
DESCRIPTION:Convegno internazionale a cura della Biblioteca Universitaria 
 di Bologna\, del Centro studi “La permanenza del classico” e del Dipar
 timento di Filologia Classica e Italianistica.
LAST-MODIFIED;VALUE=DATE-TIME:20230109T110958Z
URL:https://ficlit.unibo.it/it/eventi/cicerone-ambiente
END:VEVENT
BEGIN:VTIMEZONE
TZID:Europe/Rome
X-LIC-LOCATION:Europe/Rome
BEGIN:STANDARD
DTSTART;VALUE=DATE-TIME:20221030T020000
TZNAME:CET
TZOFFSETFROM:+0200
TZOFFSETTO:+0100
END:STANDARD
END:VTIMEZONE
END:VCALENDAR
