BEGIN:VCALENDAR
VERSION:2.0
PRODID:-//Plone.org//NONSGML plone.app.event//EN
X-WR-TIMEZONE:Europe/Rome
BEGIN:VEVENT
SUMMARY:Ciclo di incontri per aiutarti a redigere la tesi di laurea - Magi
 stralmente 2022
DTSTART;VALUE=DATE:20220303
DTEND;VALUE=DATE:20220305
DTSTAMP;VALUE=DATE-TIME:20260422T101450Z
UID:58d1262c5f1d430cadd95b6d62fe2cd3@ficlit.unibo.it
CREATED;VALUE=DATE-TIME:20220225T184527Z
DESCRIPTION:Incontri organizzati dalle Biblioteche di Unibo in occasione d
 i Magistralmente 2022
LAST-MODIFIED;VALUE=DATE-TIME:20220225T184953Z
URL:https://ficlit.unibo.it/it/eventi/ciclo-di-incontri-per-aiutarti-a-red
 igere-la-tesi-di-laurea-magistralmente-2022
END:VEVENT
END:VCALENDAR
