BEGIN:VCALENDAR
VERSION:2.0
PRODID:-//Plone.org//NONSGML plone.app.event//EN
X-WR-TIMEZONE:Europe/Rome
BEGIN:VEVENT
SUMMARY:Le cinque rose di Jennifer di Annibale Ruccello
DTSTART;TZID=Europe/Rome;VALUE=DATE-TIME:20200225T110000
DTEND;TZID=Europe/Rome;VALUE=DATE-TIME:20200225T130000
DTSTAMP;VALUE=DATE-TIME:20260421T103223Z
UID:5ba3c0a8f62942239733d47d549c2dbe@ficlit.unibo.it
CREATED;VALUE=DATE-TIME:20200218T132839Z
DESCRIPTION:a cura di Antonio Tramontano
LAST-MODIFIED;VALUE=DATE-TIME:20200218T133301Z
URL:https://ficlit.unibo.it/it/eventi/cinque-rose-jennifer-annibale-ruccel
 lo
END:VEVENT
BEGIN:VTIMEZONE
TZID:Europe/Rome
X-LIC-LOCATION:Europe/Rome
BEGIN:STANDARD
DTSTART;VALUE=DATE-TIME:20191027T020000
TZNAME:CET
TZOFFSETFROM:+0200
TZOFFSETTO:+0100
END:STANDARD
END:VTIMEZONE
END:VCALENDAR
