BEGIN:VCALENDAR
VERSION:2.0
PRODID:-//Plone.org//NONSGML plone.app.event//EN
X-WR-TIMEZONE:Europe/Rome
BEGIN:VEVENT
SUMMARY:Codici\, copisti e scritture del tardo Medioevo latino e romanzo
DTSTART;VALUE=DATE:20251201
DTEND;VALUE=DATE:20251206
DTSTAMP;VALUE=DATE-TIME:20260420T082419Z
UID:d081bc5af8f040718d742fb39b4cfc29@ficlit.unibo.it
CREATED;VALUE=DATE-TIME:20251114T104229Z
DESCRIPTION:Ciclo di lectures a cura del prof. Sandro Bertelli (Universit
 à degli Studi di Ferrara)
LAST-MODIFIED;VALUE=DATE-TIME:20251114T105715Z
URL:https://ficlit.unibo.it/it/eventi/codici-copisti-e-scritture-del-tardo
 -medioevo-latino-e-romanzo
END:VEVENT
END:VCALENDAR
