BEGIN:VCALENDAR
VERSION:2.0
PRODID:-//Plone.org//NONSGML plone.app.event//EN
X-WR-TIMEZONE:Europe/Rome
BEGIN:VEVENT
SUMMARY:Come funziona uno scriptorium mediolatino? Manoscritti\, collezion
 i di testi e opere nuove  (sec. VIII-XII)
DTSTART;TZID=Europe/Rome;VALUE=DATE-TIME:20220420T111500
DTEND;TZID=Europe/Rome;VALUE=DATE-TIME:20220420T130000
DTSTAMP;VALUE=DATE-TIME:20260422T122429Z
UID:be534247478948e0ae4dde5730510a3d@ficlit.unibo.it
CREATED;VALUE=DATE-TIME:20220329T204448Z
DESCRIPTION:NICOLAS DE MAEYER (Universität Tübingen): The formation of h
 omiletic collections in the French Cistercian milieu (s. XI-XII)
LAST-MODIFIED;VALUE=DATE-TIME:20220406T070414Z
URL:https://ficlit.unibo.it/it/eventi/come-funziona-uno-scriptorium-mediol
 atino-manoscritti-collezioni-di-testi-e-opere-nuove-sec-viii-xii-1
END:VEVENT
BEGIN:VTIMEZONE
TZID:Europe/Rome
X-LIC-LOCATION:Europe/Rome
BEGIN:DAYLIGHT
DTSTART;VALUE=DATE-TIME:20220327T030000
TZNAME:CEST
TZOFFSETFROM:+0100
TZOFFSETTO:+0200
END:DAYLIGHT
END:VTIMEZONE
END:VCALENDAR
