BEGIN:VCALENDAR
VERSION:2.0
PRODID:-//Plone.org//NONSGML plone.app.event//EN
X-WR-TIMEZONE:Europe/Rome
BEGIN:VEVENT
SUMMARY:Come leggere i classici italiani?
DTSTART;TZID=Europe/Rome;VALUE=DATE-TIME:20170331T160000
DTEND;TZID=Europe/Rome;VALUE=DATE-TIME:20170428T190000
DTSTAMP;VALUE=DATE-TIME:20260422T220410Z
UID:02cf5e1f9b044818ac340dbe4feb30c9@ficlit.unibo.it
CREATED;VALUE=DATE-TIME:20170301T193759Z
DESCRIPTION:Percorsi e dialoghi fra università e scuola
LAST-MODIFIED;VALUE=DATE-TIME:20170324T201549Z
URL:https://ficlit.unibo.it/it/eventi/come-leggere-i-classici-italiani
END:VEVENT
BEGIN:VTIMEZONE
TZID:Europe/Rome
X-LIC-LOCATION:Europe/Rome
BEGIN:DAYLIGHT
DTSTART;VALUE=DATE-TIME:20170326T030000
TZNAME:CEST
TZOFFSETFROM:+0100
TZOFFSETTO:+0200
END:DAYLIGHT
END:VTIMEZONE
END:VCALENDAR
