BEGIN:VCALENDAR
VERSION:2.0
PRODID:-//Plone.org//NONSGML plone.app.event//EN
X-WR-TIMEZONE:Europe/Rome
BEGIN:VEVENT
SUMMARY:CONCERTO DISARMANTE per la CRI
DTSTART;TZID=Europe/Rome;VALUE=DATE-TIME:20220607T210000
DTEND;TZID=Europe/Rome;VALUE=DATE-TIME:20220607T233000
DTSTAMP;VALUE=DATE-TIME:20260422T074600Z
UID:0113569eae7748c0abc358091e0397c1@ficlit.unibo.it
CREATED;VALUE=DATE-TIME:20220525T141750Z
DESCRIPTION:Con la partecipazione di Alessandro Bergonzoni e Anastasio
LAST-MODIFIED;VALUE=DATE-TIME:20220530T135044Z
URL:https://ficlit.unibo.it/it/eventi/concerto-disarmante-per-la-cri
END:VEVENT
BEGIN:VTIMEZONE
TZID:Europe/Rome
X-LIC-LOCATION:Europe/Rome
BEGIN:DAYLIGHT
DTSTART;VALUE=DATE-TIME:20220327T030000
TZNAME:CEST
TZOFFSETFROM:+0100
TZOFFSETTO:+0200
END:DAYLIGHT
END:VTIMEZONE
END:VCALENDAR
