BEGIN:VCALENDAR
VERSION:2.0
PRODID:-//Plone.org//NONSGML plone.app.event//EN
X-WR-TIMEZONE:Europe/Rome
BEGIN:VEVENT
SUMMARY:Conferenza del Prof. Tommaso Braccini (Università di Siena)\, Ana
 bioseis. I "petits Grecs" e le rinascite del mito
DTSTART;TZID=Europe/Rome;VALUE=DATE-TIME:20220421T150000
DTEND;TZID=Europe/Rome;VALUE=DATE-TIME:20220421T170000
DTSTAMP;VALUE=DATE-TIME:20260422T101407Z
UID:5924c4a6ad20458c94da16d37acde138@ficlit.unibo.it
CREATED;VALUE=DATE-TIME:20211119T074224Z
DESCRIPTION:La conferenza rientra negli incontri del ciclo ISA - Idem et a
 lius
LAST-MODIFIED;VALUE=DATE-TIME:20220407T160611Z
URL:https://ficlit.unibo.it/it/eventi/conferenza-braccini-universita-siena
 -anabioseis-petits-grecs-rinascite-mito
END:VEVENT
BEGIN:VTIMEZONE
TZID:Europe/Rome
X-LIC-LOCATION:Europe/Rome
BEGIN:DAYLIGHT
DTSTART;VALUE=DATE-TIME:20220327T030000
TZNAME:CEST
TZOFFSETFROM:+0100
TZOFFSETTO:+0200
END:DAYLIGHT
END:VTIMEZONE
END:VCALENDAR
