BEGIN:VCALENDAR
VERSION:2.0
PRODID:-//Plone.org//NONSGML plone.app.event//EN
X-WR-TIMEZONE:Europe/Rome
BEGIN:VEVENT
SUMMARY:Conferenza di A. Torino
DTSTART;TZID=Europe/Rome;VALUE=DATE-TIME:20170502T171500
DTEND;TZID=Europe/Rome;VALUE=DATE-TIME:20170502T190000
DTSTAMP;VALUE=DATE-TIME:20260422T220410Z
UID:00c77403ddb54cb79deaecfda6370062@ficlit.unibo.it
CREATED;VALUE=DATE-TIME:20170130T174024Z
LAST-MODIFIED;VALUE=DATE-TIME:20170426T123529Z
URL:https://ficlit.unibo.it/it/eventi/conferenza-di-a.-torino-1
END:VEVENT
BEGIN:VTIMEZONE
TZID:Europe/Rome
X-LIC-LOCATION:Europe/Rome
BEGIN:DAYLIGHT
DTSTART;VALUE=DATE-TIME:20170326T030000
TZNAME:CEST
TZOFFSETFROM:+0100
TZOFFSETTO:+0200
END:DAYLIGHT
END:VTIMEZONE
END:VCALENDAR
