BEGIN:VCALENDAR
VERSION:2.0
PRODID:-//Plone.org//NONSGML plone.app.event//EN
X-WR-TIMEZONE:Europe/Rome
BEGIN:VEVENT
SUMMARY:Conferenza di Carlo Galli - Nomos e nosos. Fisiologia e patologia 
 dell’età globale.
DTSTART;VALUE=DATE:20181110
DTEND;VALUE=DATE:20181111
DTSTAMP;VALUE=DATE-TIME:20260420T051023Z
UID:85c94c2c8fb2458a9ecf693ad4dd40d5@ficlit.unibo.it
CREATED;VALUE=DATE-TIME:20181024T112533Z
DESCRIPTION:Conferenza introduttiva al dibattito sul tema: Noi e gli altri
 . Identità\, salute e multiculturalismo nel mondo globale.\n
LAST-MODIFIED;VALUE=DATE-TIME:20181024T113225Z
URL:https://ficlit.unibo.it/it/eventi/conferenza-di-carlo-galli-nomos-e-no
 sos.-fisiologia-e-patologia-dell2019eta-globale
END:VEVENT
END:VCALENDAR
