BEGIN:VCALENDAR
VERSION:2.0
PRODID:-//Plone.org//NONSGML plone.app.event//EN
X-WR-TIMEZONE:Europe/Rome
BEGIN:VEVENT
SUMMARY:Conferenza di H.-G. Nesselrath: II teatro comico antico come fenom
 eno locale e globale
DTSTART;TZID=Europe/Rome;VALUE=DATE-TIME:20250411T111500
DTEND;TZID=Europe/Rome;VALUE=DATE-TIME:20250411T130000
DTSTAMP;VALUE=DATE-TIME:20260420T062707Z
UID:c865ab19afd248888aa9672ae061dc54@ficlit.unibo.it
CREATED;VALUE=DATE-TIME:20250114T075221Z
DESCRIPTION:Ciclo di conferenze e seminari “Filologia e Letteratura Clas
 sica a Bologna (FLCB) 2024/2025”
LAST-MODIFIED;VALUE=DATE-TIME:20250401T085335Z
URL:https://ficlit.unibo.it/it/eventi/conferenza-di-h-g-nesselrath
END:VEVENT
BEGIN:VTIMEZONE
TZID:Europe/Rome
X-LIC-LOCATION:Europe/Rome
BEGIN:DAYLIGHT
DTSTART;VALUE=DATE-TIME:20250330T030000
TZNAME:CEST
TZOFFSETFROM:+0100
TZOFFSETTO:+0200
END:DAYLIGHT
END:VTIMEZONE
END:VCALENDAR
