BEGIN:VCALENDAR
VERSION:2.0
PRODID:-//Plone.org//NONSGML plone.app.event//EN
X-WR-TIMEZONE:Europe/Rome
BEGIN:VEVENT
SUMMARY:Conferenza di Marco Vannini - Malattia e santità
DTSTART;VALUE=DATE:20191130
DTEND;VALUE=DATE:20191201
DTSTAMP;VALUE=DATE-TIME:20260419T145717Z
UID:b572a0aa60ee43289716136cf8b111e0@ficlit.unibo.it
CREATED;VALUE=DATE-TIME:20191126T095059Z
LAST-MODIFIED;VALUE=DATE-TIME:20191126T095133Z
URL:https://ficlit.unibo.it/it/eventi/conferenza-di-marco-vannini-malattia
 -e-santita
END:VEVENT
END:VCALENDAR
