BEGIN:VCALENDAR
VERSION:2.0
PRODID:-//Plone.org//NONSGML plone.app.event//EN
X-WR-TIMEZONE:Europe/Rome
BEGIN:VEVENT
SUMMARY:Conferenza di R. Otranto
DTSTART;TZID=Europe/Rome;VALUE=DATE-TIME:20191115T111500
DTEND;TZID=Europe/Rome;VALUE=DATE-TIME:20191115T130000
DTSTAMP;VALUE=DATE-TIME:20260419T164813Z
UID:18f531c20a4b493a85b901e137306e5e@ficlit.unibo.it
CREATED;VALUE=DATE-TIME:20191114T144724Z
LAST-MODIFIED;VALUE=DATE-TIME:20191114T144832Z
URL:https://ficlit.unibo.it/it/eventi/conferenza-di-r.-otranto
END:VEVENT
BEGIN:VTIMEZONE
TZID:Europe/Rome
X-LIC-LOCATION:Europe/Rome
BEGIN:STANDARD
DTSTART;VALUE=DATE-TIME:20191027T020000
TZNAME:CET
TZOFFSETFROM:+0200
TZOFFSETTO:+0100
END:STANDARD
END:VTIMEZONE
END:VCALENDAR
