BEGIN:VCALENDAR
VERSION:2.0
PRODID:-//Plone.org//NONSGML plone.app.event//EN
X-WR-TIMEZONE:Europe/Rome
BEGIN:VEVENT
SUMMARY:Conferenza del Prof. G. Ieranò (Università di Trento)\, "Alle or
 igini della quarta guerra punica: l'immagine di Cartagine tra nazionalismo
  e fascismo"
DTSTART;TZID=Europe/Rome;VALUE=DATE-TIME:20220216T150000
DTEND;TZID=Europe/Rome;VALUE=DATE-TIME:20220216T170000
DTSTAMP;VALUE=DATE-TIME:20260422T133440Z
UID:ba3b3e99a7bf452db5f033d22a940ff5@ficlit.unibo.it
CREATED;VALUE=DATE-TIME:20211108T151259Z
DESCRIPTION:La conferenza rientra negli incontri del ciclo ISA - Idem et a
 lius
LAST-MODIFIED;VALUE=DATE-TIME:20220131T085115Z
URL:https://ficlit.unibo.it/it/eventi/conferenza-ierano-universita-trento-
 origini-quarta-guerra-punica-immagine-cartagine-nazionalismo-fascismo
END:VEVENT
BEGIN:VTIMEZONE
TZID:Europe/Rome
X-LIC-LOCATION:Europe/Rome
BEGIN:STANDARD
DTSTART;VALUE=DATE-TIME:20211031T020000
TZNAME:CET
TZOFFSETFROM:+0200
TZOFFSETTO:+0100
END:STANDARD
END:VTIMEZONE
END:VCALENDAR
