BEGIN:VCALENDAR
VERSION:2.0
PRODID:-//Plone.org//NONSGML plone.app.event//EN
X-WR-TIMEZONE:Europe/Rome
BEGIN:VEVENT
SUMMARY:Convegno - Il romanzo storico contemporaneo
DTSTART;TZID=Europe/Rome;VALUE=DATE-TIME:20190529T100000
DTEND;TZID=Europe/Rome;VALUE=DATE-TIME:20190529T120000
DTSTAMP;VALUE=DATE-TIME:20260419T171537Z
UID:757980e005b34d4090f045c287b367f7@ficlit.unibo.it
CREATED;VALUE=DATE-TIME:20190521T133029Z
LAST-MODIFIED;VALUE=DATE-TIME:20190521T133207Z
URL:https://ficlit.unibo.it/it/eventi/convegno-il-romanzo-storico-contempo
 raneo
END:VEVENT
BEGIN:VTIMEZONE
TZID:Europe/Rome
X-LIC-LOCATION:Europe/Rome
BEGIN:DAYLIGHT
DTSTART;VALUE=DATE-TIME:20190331T030000
TZNAME:CEST
TZOFFSETFROM:+0100
TZOFFSETTO:+0200
END:DAYLIGHT
END:VTIMEZONE
END:VCALENDAR
