BEGIN:VCALENDAR
VERSION:2.0
PRODID:-//Plone.org//NONSGML plone.app.event//EN
X-WR-TIMEZONE:Europe/Rome
BEGIN:VEVENT
SUMMARY:Corso intensivo di tedesco
DTSTART;VALUE=DATE:20180115
DTEND;VALUE=DATE:20180120
DTSTAMP;VALUE=DATE-TIME:20260425T212952Z
UID:a8f0eb97c3b14a5a9a23ca301d62cf84@ficlit.unibo.it
CREATED;VALUE=DATE-TIME:20180111T080238Z
LAST-MODIFIED;VALUE=DATE-TIME:20180111T080933Z
URL:https://ficlit.unibo.it/it/eventi/corso-intensivo-di-tedesco-15-19-gen
 naio-2018
END:VEVENT
END:VCALENDAR
