BEGIN:VCALENDAR
VERSION:2.0
PRODID:-//Plone.org//NONSGML plone.app.event//EN
X-WR-TIMEZONE:Europe/Rome
BEGIN:VEVENT
SUMMARY:Cristiane Lopes Landulfo (Universidade Federal da Bahia - Brasile)
  - Lingua italiana ed educazione linguistica attraverso una prospettiva pl
 urale\, interculturale e decoloniale (PID)
DTSTART;TZID=Europe/Rome;VALUE=DATE-TIME:20200224T151500
DTEND;TZID=Europe/Rome;VALUE=DATE-TIME:20200224T170000
DTSTAMP;VALUE=DATE-TIME:20260419T182618Z
UID:920647994289425fa35fc18297bb554c@ficlit.unibo.it
CREATED;VALUE=DATE-TIME:20200217T135149Z
DESCRIPTION:Progetto Europeo XCELING - Towards Excellence in Applied Lingu
 istics. Innovative Second Language Education in Egypt
LAST-MODIFIED;VALUE=DATE-TIME:20200217T135835Z
URL:https://ficlit.unibo.it/it/eventi/cristiane-lopes-landulfo-lingua-ital
 iana-educazione-linguistica-prospettiva-plurale-interculturale-decoloniale
 -pid
END:VEVENT
BEGIN:VTIMEZONE
TZID:Europe/Rome
X-LIC-LOCATION:Europe/Rome
BEGIN:STANDARD
DTSTART;VALUE=DATE-TIME:20191027T020000
TZNAME:CET
TZOFFSETFROM:+0200
TZOFFSETTO:+0100
END:STANDARD
END:VTIMEZONE
END:VCALENDAR
