BEGIN:VCALENDAR
VERSION:2.0
PRODID:-//Plone.org//NONSGML plone.app.event//EN
X-WR-TIMEZONE:Europe/Rome
BEGIN:VEVENT
SUMMARY:Dal restauro dell’Arte illegale a quello dell’Arte Pubblica: n
 e è valsa davvero la pena?
DTSTART;TZID=Europe/Rome;VALUE=DATE-TIME:20220406T160000
DTEND;TZID=Europe/Rome;VALUE=DATE-TIME:20220406T173000
DTSTAMP;VALUE=DATE-TIME:20260422T122536Z
UID:4c6e3f9918354d8bbf151cbecae45eee@ficlit.unibo.it
CREATED;VALUE=DATE-TIME:20220406T090542Z
DESCRIPTION:Luca Ciancabilla\, introduce: G. Tusini
LAST-MODIFIED;VALUE=DATE-TIME:20220406T090625Z
URL:https://ficlit.unibo.it/it/eventi/dal-restauro-dell-arte-illegale-a-qu
 ello-dell-arte-pubblica-ne-e-valsa-davvero-la-pena
END:VEVENT
BEGIN:VTIMEZONE
TZID:Europe/Rome
X-LIC-LOCATION:Europe/Rome
BEGIN:DAYLIGHT
DTSTART;VALUE=DATE-TIME:20220327T030000
TZNAME:CEST
TZOFFSETFROM:+0100
TZOFFSETTO:+0200
END:DAYLIGHT
END:VTIMEZONE
END:VCALENDAR
