BEGIN:VCALENDAR
VERSION:2.0
PRODID:-//Plone.org//NONSGML plone.app.event//EN
X-WR-TIMEZONE:Europe/Rome
BEGIN:VEVENT
SUMMARY:Dante poeta phylosophans: The sources and limits of Dante’s know
 ledge
DTSTART;TZID=Europe/Rome;VALUE=DATE-TIME:20230921T180000
DTEND;TZID=Europe/Rome;VALUE=DATE-TIME:20230921T193000
DTSTAMP;VALUE=DATE-TIME:20260419T174814Z
UID:892f32165af442afb596935e1c0e3606@ficlit.unibo.it
CREATED;VALUE=DATE-TIME:20230726T114813Z
LAST-MODIFIED;VALUE=DATE-TIME:20230726T114814Z
URL:https://ficlit.unibo.it/it/eventi/dante-poeta-phylosophans-the-sources
 -and-limits-of-dante2019s-knowledge
END:VEVENT
BEGIN:VTIMEZONE
TZID:Europe/Rome
X-LIC-LOCATION:Europe/Rome
BEGIN:DAYLIGHT
DTSTART;VALUE=DATE-TIME:20230326T030000
TZNAME:CEST
TZOFFSETFROM:+0100
TZOFFSETTO:+0200
END:DAYLIGHT
END:VTIMEZONE
END:VCALENDAR
