BEGIN:VCALENDAR
VERSION:2.0
PRODID:-//Plone.org//NONSGML plone.app.event//EN
X-WR-TIMEZONE:Europe/Rome
BEGIN:VEVENT
SUMMARY:Dimenticare. Come avviene il futuro
DTSTART;TZID=Europe/Rome;VALUE=DATE-TIME:20250530T170000
DTEND;TZID=Europe/Rome;VALUE=DATE-TIME:20250616T170000
DTSTAMP;VALUE=DATE-TIME:20260421T233301Z
UID:24fe5b80f2444106bdc7c95724066768@ficlit.unibo.it
CREATED;VALUE=DATE-TIME:20250523T160858Z
DESCRIPTION:Ciclo di incontri – Anno V a cura di Francesco Santi
LAST-MODIFIED;VALUE=DATE-TIME:20250523T163906Z
URL:https://ficlit.unibo.it/it/eventi/dimenticare-come-avviene-il-futuro
END:VEVENT
BEGIN:VTIMEZONE
TZID:Europe/Rome
X-LIC-LOCATION:Europe/Rome
BEGIN:DAYLIGHT
DTSTART;VALUE=DATE-TIME:20250330T030000
TZNAME:CEST
TZOFFSETFROM:+0100
TZOFFSETTO:+0200
END:DAYLIGHT
END:VTIMEZONE
END:VCALENDAR
