BEGIN:VCALENDAR
VERSION:2.0
PRODID:-//Plone.org//NONSGML plone.app.event//EN
X-WR-TIMEZONE:Europe/Rome
BEGIN:VEVENT
SUMMARY:Due lezioni di K. Raaflaub
DTSTART;TZID=Europe/Rome;VALUE=DATE-TIME:20191014T111500
DTEND;TZID=Europe/Rome;VALUE=DATE-TIME:20191014T190000
DTSTAMP;VALUE=DATE-TIME:20260419T195256Z
UID:ab5c54dc7a674400b50e4118ee80bfe0@ficlit.unibo.it
CREATED;VALUE=DATE-TIME:20191007T091206Z
LAST-MODIFIED;VALUE=DATE-TIME:20191007T091244Z
URL:https://ficlit.unibo.it/it/eventi/due-lezioni-di-k.-raaflaub
END:VEVENT
BEGIN:VTIMEZONE
TZID:Europe/Rome
X-LIC-LOCATION:Europe/Rome
BEGIN:DAYLIGHT
DTSTART;VALUE=DATE-TIME:20190331T030000
TZNAME:CEST
TZOFFSETFROM:+0100
TZOFFSETTO:+0200
END:DAYLIGHT
END:VTIMEZONE
END:VCALENDAR
