BEGIN:VCALENDAR
VERSION:2.0
PRODID:-//Plone.org//NONSGML plone.app.event//EN
X-WR-TIMEZONE:Europe/Rome
BEGIN:VEVENT
SUMMARY:È di Foscolo l’Edippo di Wigberto Rivalta?
DTSTART;TZID=Europe/Rome;VALUE=DATE-TIME:20220210T150000
DTEND;TZID=Europe/Rome;VALUE=DATE-TIME:20220210T180000
DTSTAMP;VALUE=DATE-TIME:20260419T141618Z
UID:3a363df7c48e4eeda46def5a8e16d89f@ficlit.unibo.it
CREATED;VALUE=DATE-TIME:20220128T143209Z
DESCRIPTION:Dialogano con Paola Italia CHRISTIAN DEL VENTO\, FRANCESCA FED
 I e MARIA MADDALENA LOMBARDI
LAST-MODIFIED;VALUE=DATE-TIME:20220201T144630Z
URL:https://ficlit.unibo.it/it/eventi/e-di-foscolo-l-edippo-di-wigberto-ri
 valta
END:VEVENT
BEGIN:VTIMEZONE
TZID:Europe/Rome
X-LIC-LOCATION:Europe/Rome
BEGIN:STANDARD
DTSTART;VALUE=DATE-TIME:20211031T020000
TZNAME:CET
TZOFFSETFROM:+0200
TZOFFSETTO:+0100
END:STANDARD
END:VTIMEZONE
END:VCALENDAR
