BEGIN:VCALENDAR
VERSION:2.0
PRODID:-//Plone.org//NONSGML plone.app.event//EN
X-WR-TIMEZONE:Europe/Rome
BEGIN:VEVENT
SUMMARY:Ecdotica e risorse digitali
DTSTART;TZID=Europe/Rome;VALUE=DATE-TIME:20170412T153000
DTEND;TZID=Europe/Rome;VALUE=DATE-TIME:20170412T173000
DTSTAMP;VALUE=DATE-TIME:20260422T194903Z
UID:81e28354f2774588ae793d18c90239e9@ficlit.unibo.it
CREATED;VALUE=DATE-TIME:20170331T131125Z
DESCRIPTION:Seminario di Filologia moderna III (a.a. 2016-2017)\na cura di
  G. Brunetti - L. Chines - L. Formisano - P. Vecchi Galli
LAST-MODIFIED;VALUE=DATE-TIME:20170331T131252Z
URL:https://ficlit.unibo.it/it/eventi/ecdotica-e-risorse-digitali
END:VEVENT
BEGIN:VTIMEZONE
TZID:Europe/Rome
X-LIC-LOCATION:Europe/Rome
BEGIN:DAYLIGHT
DTSTART;VALUE=DATE-TIME:20170326T030000
TZNAME:CEST
TZOFFSETFROM:+0100
TZOFFSETTO:+0200
END:DAYLIGHT
END:VTIMEZONE
END:VCALENDAR
