BEGIN:VCALENDAR
VERSION:2.0
PRODID:-//Plone.org//NONSGML plone.app.event//EN
X-WR-TIMEZONE:Europe/Rome
BEGIN:VEVENT
SUMMARY:Echi medievali
DTSTART;TZID=Europe/Rome;VALUE=DATE-TIME:20220518T210000
DTEND;TZID=Europe/Rome;VALUE=DATE-TIME:20220523T220000
DTSTAMP;VALUE=DATE-TIME:20260422T040912Z
UID:a1933e6bd30944d693d591712bbb2a4d@ficlit.unibo.it
CREATED;VALUE=DATE-TIME:20220422T135741Z
DESCRIPTION:Visioni di terre di mari di cieli
LAST-MODIFIED;VALUE=DATE-TIME:20220427T173831Z
URL:https://ficlit.unibo.it/it/eventi/echi-medievali
END:VEVENT
BEGIN:VTIMEZONE
TZID:Europe/Rome
X-LIC-LOCATION:Europe/Rome
BEGIN:DAYLIGHT
DTSTART;VALUE=DATE-TIME:20220327T030000
TZNAME:CEST
TZOFFSETFROM:+0100
TZOFFSETTO:+0200
END:DAYLIGHT
END:VTIMEZONE
END:VCALENDAR
