BEGIN:VCALENDAR
VERSION:2.0
PRODID:-//Plone.org//NONSGML plone.app.event//EN
X-WR-TIMEZONE:Europe/Rome
BEGIN:VEVENT
SUMMARY:Editare i testi teatrali
DTSTART;TZID=Europe/Rome;VALUE=DATE-TIME:20220516T150000
DTEND;TZID=Europe/Rome;VALUE=DATE-TIME:20220516T183000
DTSTAMP;VALUE=DATE-TIME:20260422T111513Z
UID:95a25fa3a7cd471d8d5c28bde6574e39@ficlit.unibo.it
CREATED;VALUE=DATE-TIME:20220420T142432Z
DESCRIPTION:Foro di Ecdotica
LAST-MODIFIED;VALUE=DATE-TIME:20220420T143954Z
URL:https://ficlit.unibo.it/it/eventi/editare-i-testi-teatrali
END:VEVENT
BEGIN:VTIMEZONE
TZID:Europe/Rome
X-LIC-LOCATION:Europe/Rome
BEGIN:DAYLIGHT
DTSTART;VALUE=DATE-TIME:20220327T030000
TZNAME:CEST
TZOFFSETFROM:+0100
TZOFFSETTO:+0200
END:DAYLIGHT
END:VTIMEZONE
END:VCALENDAR
