BEGIN:VCALENDAR
VERSION:2.0
PRODID:-//Plone.org//NONSGML plone.app.event//EN
X-WR-TIMEZONE:Europe/Rome
BEGIN:VEVENT
SUMMARY:Editare testi instabili del Medioevo latino. Casi e metodologie di
  lavoro
DTSTART;TZID=Europe/Rome;VALUE=DATE-TIME:20250219T103000
DTEND;TZID=Europe/Rome;VALUE=DATE-TIME:20250219T130000
DTSTAMP;VALUE=DATE-TIME:20260420T103711Z
UID:f3c4525607f34e7abd9b980a92769610@ficlit.unibo.it
CREATED;VALUE=DATE-TIME:20250211T085924Z
DESCRIPTION:Seminario di studio del Dipartimento di Filologia Classica e I
 talianistica – FICLIT dell’Università di Bologna
LAST-MODIFIED;VALUE=DATE-TIME:20250211T102231Z
URL:https://ficlit.unibo.it/it/eventi/editare-testi-instabili-del-medioevo
 -latino-casi-e-metodologie-di-lavoro
END:VEVENT
BEGIN:VTIMEZONE
TZID:Europe/Rome
X-LIC-LOCATION:Europe/Rome
BEGIN:STANDARD
DTSTART;VALUE=DATE-TIME:20241027T020000
TZNAME:CET
TZOFFSETFROM:+0200
TZOFFSETTO:+0100
END:STANDARD
END:VTIMEZONE
END:VCALENDAR
