BEGIN:VCALENDAR
VERSION:2.0
PRODID:-//Plone.org//NONSGML plone.app.event//EN
X-WR-TIMEZONE:Europe/Rome
BEGIN:VEVENT
SUMMARY:Entre l’oral et l’écrit : pour une approche philologique et l
 inguistique de la littérature médiévale
DTSTART;VALUE=DATE:20250403
DTEND;VALUE=DATE:20250417
DTSTAMP;VALUE=DATE-TIME:20260422T123325Z
UID:8a8ed6efa3b44b179908cf1e14288cf9@ficlit.unibo.it
CREATED;VALUE=DATE-TIME:20250304T065141Z
DESCRIPTION:Ciclo di lezioni della prof. Gabriella Parussa (Sorbonne Unive
 rsité) Visiting Professor FICLIT 2025 per il Seminario di Filologia roman
 za "WiP. Work in Progress"
LAST-MODIFIED;VALUE=DATE-TIME:20250304T070032Z
URL:https://ficlit.unibo.it/it/eventi/entre-l-oral-et-l-ecrit-pour-une-app
 roche-philologique-et-linguistique-de-la-litterature-medievale
END:VEVENT
END:VCALENDAR
