BEGIN:VCALENDAR
VERSION:2.0
PRODID:-//Plone.org//NONSGML plone.app.event//EN
X-WR-TIMEZONE:Europe/Rome
BEGIN:VEVENT
SUMMARY:Esercitazioni in laboratorio\, Zotero e questionario finale di res
 tituzione
DTSTART;TZID=Europe/Rome;VALUE=DATE-TIME:20220622T110000
DTEND;TZID=Europe/Rome;VALUE=DATE-TIME:20220622T130000
DTSTAMP;VALUE=DATE-TIME:20260422T011512Z
UID:c378d8a263fd4bd6919bd6f40e5b9d75@ficlit.unibo.it
CREATED;VALUE=DATE-TIME:20220503T153336Z
DESCRIPTION:Bibliolab - Quarto appuntamento del ciclo
LAST-MODIFIED;VALUE=DATE-TIME:20220503T153348Z
URL:https://ficlit.unibo.it/it/eventi/esercitazioni-in-laboratorio-zotero-
 e-questionario-finale-di-restituzione
END:VEVENT
BEGIN:VTIMEZONE
TZID:Europe/Rome
X-LIC-LOCATION:Europe/Rome
BEGIN:DAYLIGHT
DTSTART;VALUE=DATE-TIME:20220327T030000
TZNAME:CEST
TZOFFSETFROM:+0100
TZOFFSETTO:+0200
END:DAYLIGHT
END:VTIMEZONE
END:VCALENDAR
