BEGIN:VCALENDAR
VERSION:2.0
PRODID:-//Plone.org//NONSGML plone.app.event//EN
X-WR-TIMEZONE:Europe/Rome
BEGIN:VEVENT
SUMMARY:Europaeum 2017 Classics Colloquium
DTSTART;TZID=Europe/Rome;VALUE=DATE-TIME:20171123T090000
DTEND;TZID=Europe/Rome;VALUE=DATE-TIME:20171125T190000
DTSTAMP;VALUE=DATE-TIME:20260424T163130Z
UID:b49ebe52376c4a0d80b44bf15ce18e3e@ficlit.unibo.it
CREATED;VALUE=DATE-TIME:20171116T134048Z
DESCRIPTION:Past and Present: How the moderns create myths and apologia fr
 om the classics
LAST-MODIFIED;VALUE=DATE-TIME:20171116T134121Z
URL:https://ficlit.unibo.it/it/eventi/europaeum-2017-classics-colloquium
END:VEVENT
BEGIN:VTIMEZONE
TZID:Europe/Rome
X-LIC-LOCATION:Europe/Rome
BEGIN:STANDARD
DTSTART;VALUE=DATE-TIME:20171029T020000
TZNAME:CET
TZOFFSETFROM:+0200
TZOFFSETTO:+0100
END:STANDARD
END:VTIMEZONE
END:VCALENDAR
