BEGIN:VCALENDAR
VERSION:2.0
PRODID:-//Plone.org//NONSGML plone.app.event//EN
X-WR-TIMEZONE:Europe/Rome
BEGIN:VEVENT
SUMMARY:Ezio Raimondi lettore inquieto
DTSTART;TZID=Europe/Rome;VALUE=DATE-TIME:20151126T143000
DTEND;TZID=Europe/Rome;VALUE=DATE-TIME:20151128T130000
DTSTAMP;VALUE=DATE-TIME:20260421T031623Z
UID:8a15009800704440853f914d732da113@ficlit.unibo.it
CREATED;VALUE=DATE-TIME:20151110T134237Z
DESCRIPTION:Convegno internazionale di studio e di ricordo
LAST-MODIFIED;VALUE=DATE-TIME:20151110T134257Z
URL:https://ficlit.unibo.it/it/eventi/ezio-raimondi-lettore-inquieto
END:VEVENT
BEGIN:VTIMEZONE
TZID:Europe/Rome
X-LIC-LOCATION:Europe/Rome
BEGIN:STANDARD
DTSTART;VALUE=DATE-TIME:20151025T020000
TZNAME:CET
TZOFFSETFROM:+0200
TZOFFSETTO:+0100
END:STANDARD
END:VTIMEZONE
END:VCALENDAR
