BEGIN:VCALENDAR
VERSION:2.0
PRODID:-//Plone.org//NONSGML plone.app.event//EN
X-WR-TIMEZONE:Europe/Rome
BEGIN:VEVENT
SUMMARY:Filologia e Censura
DTSTART;TZID=Europe/Rome;VALUE=DATE-TIME:20220527T100000
DTEND;TZID=Europe/Rome;VALUE=DATE-TIME:20220527T160000
DTSTAMP;VALUE=DATE-TIME:20260422T074636Z
UID:e68afdbf71b347b0a51c137c6b441dec@ficlit.unibo.it
CREATED;VALUE=DATE-TIME:20220524T101457Z
DESCRIPTION:Il caso della Storia Fiorentina di Benedetto Varchi
LAST-MODIFIED;VALUE=DATE-TIME:20220524T101727Z
URL:https://ficlit.unibo.it/it/eventi/filologia-e-censura
END:VEVENT
BEGIN:VTIMEZONE
TZID:Europe/Rome
X-LIC-LOCATION:Europe/Rome
BEGIN:DAYLIGHT
DTSTART;VALUE=DATE-TIME:20220327T030000
TZNAME:CEST
TZOFFSETFROM:+0100
TZOFFSETTO:+0200
END:DAYLIGHT
END:VTIMEZONE
END:VCALENDAR
