BEGIN:VCALENDAR
VERSION:2.0
PRODID:-//Plone.org//NONSGML plone.app.event//EN
X-WR-TIMEZONE:Europe/Rome
BEGIN:VEVENT
SUMMARY:Frammenti di Medioevo Sostenibile
DTSTART;TZID=Europe/Rome;VALUE=DATE-TIME:20241203T143000
DTEND;TZID=Europe/Rome;VALUE=DATE-TIME:20241203T170000
DTSTAMP;VALUE=DATE-TIME:20260420T082211Z
UID:2e01f013143f424092c64738eba9f607@ficlit.unibo.it
CREATED;VALUE=DATE-TIME:20241126T165839Z
DESCRIPTION:Seminario conclusivo del progetto Cultura e Rigenerazione 2023
  finanziato da: Fondazione Carisbo\, Chiesa di Bologna\, Dipartimento di F
 ilologia Classica e Italianistica dell’Università di Bologna
LAST-MODIFIED;VALUE=DATE-TIME:20241126T170027Z
URL:https://ficlit.unibo.it/it/eventi/frammenti-di-medioevo-sostenibile
END:VEVENT
BEGIN:VTIMEZONE
TZID:Europe/Rome
X-LIC-LOCATION:Europe/Rome
BEGIN:STANDARD
DTSTART;VALUE=DATE-TIME:20241027T020000
TZNAME:CET
TZOFFSETFROM:+0200
TZOFFSETTO:+0100
END:STANDARD
END:VTIMEZONE
END:VCALENDAR
