BEGIN:VCALENDAR
VERSION:2.0
PRODID:-//Plone.org//NONSGML plone.app.event//EN
X-WR-TIMEZONE:Europe/Rome
BEGIN:VEVENT
SUMMARY:Frammenti di metodo: un esempio dall’Apuleio perduto
DTSTART;TZID=Europe/Rome;VALUE=DATE-TIME:20220504T150000
DTEND;TZID=Europe/Rome;VALUE=DATE-TIME:20220504T170000
DTSTAMP;VALUE=DATE-TIME:20260426T020633Z
UID:d169eb1bd8e9401dbf0d53eaad73fcfd@ficlit.unibo.it
CREATED;VALUE=DATE-TIME:20220420T140624Z
DESCRIPTION:Antonio Stramaglia (Bari)
LAST-MODIFIED;VALUE=DATE-TIME:20220426T105228Z
URL:https://ficlit.unibo.it/it/eventi/frammenti-di-metodo-un-esempio-dall-
 apuleio-perduto
END:VEVENT
BEGIN:VTIMEZONE
TZID:Europe/Rome
X-LIC-LOCATION:Europe/Rome
BEGIN:DAYLIGHT
DTSTART;VALUE=DATE-TIME:20220327T030000
TZNAME:CEST
TZOFFSETFROM:+0100
TZOFFSETTO:+0200
END:DAYLIGHT
END:VTIMEZONE
END:VCALENDAR
